BEGIN:VCALENDAR
VERSION:2.0
PRODID:-//NADI Kg Wakaf Aik - ECPv6.13.2.1//NONSGML v1.0//EN
CALSCALE:GREGORIAN
METHOD:PUBLISH
X-ORIGINAL-URL:https://wakafaik.nadi.my
X-WR-CALDESC:Events for NADI Kg Wakaf Aik
REFRESH-INTERVAL;VALUE=DURATION:PT1H
X-Robots-Tag:noindex
X-PUBLISHED-TTL:PT1H
BEGIN:VTIMEZONE
TZID:Asia/Kuala_Lumpur
BEGIN:STANDARD
TZOFFSETFROM:+0800
TZOFFSETTO:+0800
TZNAME:+08
DTSTART:20250101T000000
END:STANDARD
END:VTIMEZONE
BEGIN:VEVENT
DTSTART;TZID=Asia/Kuala_Lumpur:20251019T100000
DTEND;TZID=Asia/Kuala_Lumpur:20251019T120000
DTSTAMP:20260420T055129
CREATED:20251013T025919Z
LAST-MODIFIED:20251013T025919Z
UID:17467-1760868000-1760875200@wakafaik.nadi.my
SUMMARY:ASAS MENAIP
DESCRIPTION:
URL:https://wakafaik.nadi.my/event/asas-menaip/
END:VEVENT
BEGIN:VEVENT
DTSTART;TZID=Asia/Kuala_Lumpur:20251017T150000
DTEND;TZID=Asia/Kuala_Lumpur:20251017T170000
DTSTAMP:20260420T055129
CREATED:20251013T025810Z
LAST-MODIFIED:20251013T025810Z
UID:17464-1760713200-1760720400@wakafaik.nadi.my
SUMMARY:AKTIVITI STEM/IOT "COLOURFULL BUBBLE"
DESCRIPTION:
URL:https://wakafaik.nadi.my/event/aktiviti-stem-iot-colourfull-bubble/
END:VEVENT
BEGIN:VEVENT
DTSTART;TZID=Asia/Kuala_Lumpur:20251013T110000
DTEND;TZID=Asia/Kuala_Lumpur:20251013T120000
DTSTAMP:20260420T055129
CREATED:20251013T025626Z
LAST-MODIFIED:20251013T025626Z
UID:17462-1760353200-1760356800@wakafaik.nadi.my
SUMMARY:PENGGUNAAN MICROSOFT COPILOT
DESCRIPTION:
URL:https://wakafaik.nadi.my/event/penggunaan-microsoft-copilot/
END:VEVENT
BEGIN:VEVENT
DTSTART;TZID=Asia/Kuala_Lumpur:20251010T090000
DTEND;TZID=Asia/Kuala_Lumpur:20251010T100000
DTSTAMP:20260420T055129
CREATED:20251004T092247Z
LAST-MODIFIED:20251004T092247Z
UID:17459-1760086800-1760090400@wakafaik.nadi.my
SUMMARY:AKTIVITI STEM "WALK TAPE"
DESCRIPTION:
URL:https://wakafaik.nadi.my/event/aktiviti-stem-walk-tape/
END:VEVENT
BEGIN:VEVENT
DTSTART;TZID=Asia/Kuala_Lumpur:20251007T140000
DTEND;TZID=Asia/Kuala_Lumpur:20251007T150000
DTSTAMP:20260420T055129
CREATED:20251004T092149Z
LAST-MODIFIED:20251004T092149Z
UID:17457-1759845600-1759849200@wakafaik.nadi.my
SUMMARY:STUDIO KESIHATAN
DESCRIPTION:
URL:https://wakafaik.nadi.my/event/studio-kesihatan/
END:VEVENT
BEGIN:VEVENT
DTSTART;TZID=Asia/Kuala_Lumpur:20251005T100000
DTEND;TZID=Asia/Kuala_Lumpur:20251005T110000
DTSTAMP:20260420T055129
CREATED:20251004T091937Z
LAST-MODIFIED:20251004T091937Z
UID:17455-1759658400-1759662000@wakafaik.nadi.my
SUMMARY:PERMAINAN PENDIDIKAN ABCYA
DESCRIPTION:
URL:https://wakafaik.nadi.my/event/permainan-pendidikan-abcya-3/
END:VEVENT
BEGIN:VEVENT
DTSTART;TZID=Asia/Kuala_Lumpur:20251003T143000
DTEND;TZID=Asia/Kuala_Lumpur:20251003T173000
DTSTAMP:20260420T055129
CREATED:20251004T091823Z
LAST-MODIFIED:20251004T091823Z
UID:17453-1759501800-1759512600@wakafaik.nadi.my
SUMMARY:AKTIVITI STEM "RAINBOW FOAM CRAFT"
DESCRIPTION:
URL:https://wakafaik.nadi.my/event/aktiviti-stem-rainbow-foam-craft/
END:VEVENT
BEGIN:VEVENT
DTSTART;TZID=Asia/Kuala_Lumpur:20250921T100000
DTEND;TZID=Asia/Kuala_Lumpur:20250921T120000
DTSTAMP:20260420T055129
CREATED:20250917T075314Z
LAST-MODIFIED:20250917T075314Z
UID:17439-1758448800-1758456000@wakafaik.nadi.my
SUMMARY:ASAS MICROSOFT WORD
DESCRIPTION:
URL:https://wakafaik.nadi.my/event/asas-microsoft-word/
END:VEVENT
BEGIN:VEVENT
DTSTART;TZID=Asia/Kuala_Lumpur:20250919T150000
DTEND;TZID=Asia/Kuala_Lumpur:20250919T170000
DTSTAMP:20260420T055129
CREATED:20250917T075224Z
LAST-MODIFIED:20250917T075224Z
UID:17437-1758294000-1758301200@wakafaik.nadi.my
SUMMARY:AKTIVITI STEM IOT  “BOAT CRAFT”
DESCRIPTION:
URL:https://wakafaik.nadi.my/event/aktiviti-stem-iot-boat-craft/
END:VEVENT
BEGIN:VEVENT
DTSTART;TZID=Asia/Kuala_Lumpur:20250918T150000
DTEND;TZID=Asia/Kuala_Lumpur:20250918T170000
DTSTAMP:20260420T055129
CREATED:20250917T075107Z
LAST-MODIFIED:20250917T075107Z
UID:17435-1758207600-1758214800@wakafaik.nadi.my
SUMMARY:SEBENARNYA.MY  “BERITA PALSU”
DESCRIPTION:
URL:https://wakafaik.nadi.my/event/sebenarnya-my-berita-palsu/
END:VEVENT
BEGIN:VEVENT
DTSTART;TZID=Asia/Kuala_Lumpur:20250809T140000
DTEND;TZID=Asia/Kuala_Lumpur:20250809T150000
DTSTAMP:20260420T055129
CREATED:20250801T095848Z
LAST-MODIFIED:20250801T095848Z
UID:17391-1754748000-1754751600@wakafaik.nadi.my
SUMMARY:KEMAHIRAN IT
DESCRIPTION:
URL:https://wakafaik.nadi.my/event/kemahiran-it-2/
END:VEVENT
BEGIN:VEVENT
DTSTART;TZID=Asia/Kuala_Lumpur:20250808T090000
DTEND;TZID=Asia/Kuala_Lumpur:20250808T100000
DTSTAMP:20260420T055129
CREATED:20250801T095816Z
LAST-MODIFIED:20250801T095816Z
UID:17389-1754643600-1754647200@wakafaik.nadi.my
SUMMARY:AKTIVITI STEM “DESK DECO”
DESCRIPTION:
URL:https://wakafaik.nadi.my/event/aktiviti-stem-desk-deco/
END:VEVENT
BEGIN:VEVENT
DTSTART;TZID=Asia/Kuala_Lumpur:20250807T020000
DTEND;TZID=Asia/Kuala_Lumpur:20250807T150000
DTSTAMP:20260420T055129
CREATED:20250801T095740Z
LAST-MODIFIED:20250801T095740Z
UID:17387-1754532000-1754578800@wakafaik.nadi.my
SUMMARY:YOUTUBE  STUDIO SIHAT
DESCRIPTION:
URL:https://wakafaik.nadi.my/event/youtube-studio-sihat-2/
END:VEVENT
BEGIN:VEVENT
DTSTART;TZID=Asia/Kuala_Lumpur:20250801T143000
DTEND;TZID=Asia/Kuala_Lumpur:20250801T173000
DTSTAMP:20260420T055129
CREATED:20250801T095620Z
LAST-MODIFIED:20250801T095620Z
UID:17384-1754058600-1754069400@wakafaik.nadi.my
SUMMARY:AKTIVITI STEM “HANDMADE RUN STICKMAN”
DESCRIPTION:
URL:https://wakafaik.nadi.my/event/aktiviti-stem-handmade-run-stickman/
END:VEVENT
BEGIN:VEVENT
DTSTART;TZID=Asia/Kuala_Lumpur:20250723T110000
DTEND;TZID=Asia/Kuala_Lumpur:20250723T120000
DTSTAMP:20260420T055129
CREATED:20250719T032937Z
LAST-MODIFIED:20250719T032937Z
UID:17361-1753268400-1753272000@wakafaik.nadi.my
SUMMARY:ASAS AI VEO 2 AI STUDIO
DESCRIPTION:
URL:https://wakafaik.nadi.my/event/asas-ai-veo-2-ai-studio/
END:VEVENT
BEGIN:VEVENT
DTSTART;TZID=Asia/Kuala_Lumpur:20250721T100000
DTEND;TZID=Asia/Kuala_Lumpur:20250721T120000
DTSTAMP:20260420T055129
CREATED:20250715T040741Z
LAST-MODIFIED:20250715T040741Z
UID:17359-1753092000-1753099200@wakafaik.nadi.my
SUMMARY:Asas Komputer
DESCRIPTION:
URL:https://wakafaik.nadi.my/event/asas-komputer-6/
END:VEVENT
BEGIN:VEVENT
DTSTART;TZID=Asia/Kuala_Lumpur:20250718T150000
DTEND;TZID=Asia/Kuala_Lumpur:20250718T170000
DTSTAMP:20260420T055129
CREATED:20250714T024823Z
LAST-MODIFIED:20250714T024823Z
UID:17351-1752850800-1752858000@wakafaik.nadi.my
SUMMARY:AKTIVITI STEM IOT  “AMAZING CRAFT”
DESCRIPTION:
URL:https://wakafaik.nadi.my/event/aktiviti-stem-iot-amazing-craft/
END:VEVENT
BEGIN:VEVENT
DTSTART;TZID=Asia/Kuala_Lumpur:20250716T150000
DTEND;TZID=Asia/Kuala_Lumpur:20250716T170000
DTSTAMP:20260420T055129
CREATED:20250714T024748Z
LAST-MODIFIED:20250714T024748Z
UID:17349-1752678000-1752685200@wakafaik.nadi.my
SUMMARY:SEBENARNYA.MY  “TIDAK PASTI  JANGAN KONGSI”
DESCRIPTION:
URL:https://wakafaik.nadi.my/event/sebenarnya-my-tidak-pasti-jangan-kongsi/
END:VEVENT
BEGIN:VEVENT
DTSTART;TZID=Asia/Kuala_Lumpur:20250714T100000
DTEND;TZID=Asia/Kuala_Lumpur:20250714T110000
DTSTAMP:20260420T055129
CREATED:20250714T024722Z
LAST-MODIFIED:20250714T024722Z
UID:17347-1752487200-1752490800@wakafaik.nadi.my
SUMMARY:FASTFINGER
DESCRIPTION:
URL:https://wakafaik.nadi.my/event/fastfinger/
END:VEVENT
BEGIN:VEVENT
DTSTART;TZID=Asia/Kuala_Lumpur:20250712T140000
DTEND;TZID=Asia/Kuala_Lumpur:20250712T150000
DTSTAMP:20260420T055129
CREATED:20250714T024653Z
LAST-MODIFIED:20250714T024653Z
UID:17345-1752328800-1752332400@wakafaik.nadi.my
SUMMARY:NADI KAHOOT K.I.S
DESCRIPTION:
URL:https://wakafaik.nadi.my/event/nadi-kahoot-k-i-s/
END:VEVENT
BEGIN:VEVENT
DTSTART;TZID=Asia/Kuala_Lumpur:20250711T090000
DTEND;TZID=Asia/Kuala_Lumpur:20250711T100000
DTSTAMP:20260420T055129
CREATED:20250714T024550Z
LAST-MODIFIED:20250714T024550Z
UID:17343-1752224400-1752228000@wakafaik.nadi.my
SUMMARY:AKTIVITI STEM  “STICK GUN”
DESCRIPTION:
URL:https://wakafaik.nadi.my/event/aktiviti-stem-stick-gun/
END:VEVENT
BEGIN:VEVENT
DTSTART;TZID=Asia/Kuala_Lumpur:20250707T140000
DTEND;TZID=Asia/Kuala_Lumpur:20250707T150000
DTSTAMP:20260420T055129
CREATED:20250701T013115Z
LAST-MODIFIED:20250701T013115Z
UID:17321-1751896800-1751900400@wakafaik.nadi.my
SUMMARY:YOUTUBE  STUDIO SIHAT
DESCRIPTION:
URL:https://wakafaik.nadi.my/event/youtube-studio-sihat/
END:VEVENT
BEGIN:VEVENT
DTSTART;TZID=Asia/Kuala_Lumpur:20250704T143000
DTEND;TZID=Asia/Kuala_Lumpur:20250704T173000
DTSTAMP:20260420T055129
CREATED:20250701T012851Z
LAST-MODIFIED:20250701T012851Z
UID:17319-1751639400-1751650200@wakafaik.nadi.my
SUMMARY:AKTIVITI STEM “HANDMADE FAN”
DESCRIPTION:
URL:https://wakafaik.nadi.my/event/aktiviti-stem-handmade-fan/
END:VEVENT
BEGIN:VEVENT
DTSTART;TZID=Asia/Kuala_Lumpur:20250702T100000
DTEND;TZID=Asia/Kuala_Lumpur:20250702T110000
DTSTAMP:20260420T055129
CREATED:20250701T012802Z
LAST-MODIFIED:20250701T012802Z
UID:17317-1751450400-1751454000@wakafaik.nadi.my
SUMMARY:PERMAINAN PENDIDIKAN ABCYA
DESCRIPTION:
URL:https://wakafaik.nadi.my/event/permainan-pendidikan-abcya-2/
END:VEVENT
BEGIN:VEVENT
DTSTART;TZID=Asia/Kuala_Lumpur:20250524T023000
DTEND;TZID=Asia/Kuala_Lumpur:20250524T173000
DTSTAMP:20260420T055129
CREATED:20250521T073308Z
LAST-MODIFIED:20250521T073308Z
UID:17265-1748053800-1748107800@wakafaik.nadi.my
SUMMARY:AKTIVITI STEM "CRAFT OCTOPUS"
DESCRIPTION:
URL:https://wakafaik.nadi.my/event/aktiviti-stem-craft-octopus/
END:VEVENT
BEGIN:VEVENT
DTSTART;TZID=Asia/Kuala_Lumpur:20250523T100000
DTEND;TZID=Asia/Kuala_Lumpur:20250523T110000
DTSTAMP:20260420T055129
CREATED:20250521T073225Z
LAST-MODIFIED:20250521T073225Z
UID:17263-1747994400-1747998000@wakafaik.nadi.my
SUMMARY:KEMAHIRAN ICT
DESCRIPTION:
URL:https://wakafaik.nadi.my/event/kemahiran-ict-2/
END:VEVENT
BEGIN:VEVENT
DTSTART;TZID=Asia/Kuala_Lumpur:20250521T110000
DTEND;TZID=Asia/Kuala_Lumpur:20250521T120000
DTSTAMP:20260420T055129
CREATED:20250521T072951Z
LAST-MODIFIED:20250521T073139Z
UID:17260-1747825200-1747828800@wakafaik.nadi.my
SUMMARY:KAHOOT INTERNET
DESCRIPTION:
URL:https://wakafaik.nadi.my/event/kahoot-internet/
END:VEVENT
BEGIN:VEVENT
DTSTART;TZID=Asia/Kuala_Lumpur:20250519T100000
DTEND;TZID=Asia/Kuala_Lumpur:20250519T120000
DTSTAMP:20260420T055129
CREATED:20250514T072132Z
LAST-MODIFIED:20250514T072132Z
UID:17257-1747648800-1747656000@wakafaik.nadi.my
SUMMARY:PENGGUNAAN ENJIN CARIAN
DESCRIPTION:
URL:https://wakafaik.nadi.my/event/penggunaan-enjin-carian/
END:VEVENT
BEGIN:VEVENT
DTSTART;TZID=Asia/Kuala_Lumpur:20250516T150000
DTEND;TZID=Asia/Kuala_Lumpur:20250516T170000
DTSTAMP:20260420T055129
CREATED:20250514T072038Z
LAST-MODIFIED:20250514T072038Z
UID:17254-1747407600-1747414800@wakafaik.nadi.my
SUMMARY:AKTIVITI STEM IOT “DIY PAPER”
DESCRIPTION:
URL:https://wakafaik.nadi.my/event/aktiviti-stem-iot-diy-paper/
END:VEVENT
BEGIN:VEVENT
DTSTART;TZID=Asia/Kuala_Lumpur:20250514T150000
DTEND;TZID=Asia/Kuala_Lumpur:20250514T170000
DTSTAMP:20260420T055129
CREATED:20250514T071957Z
LAST-MODIFIED:20250514T071957Z
UID:17252-1747234800-1747242000@wakafaik.nadi.my
SUMMARY:KESELAMATAN INTERNET
DESCRIPTION:
URL:https://wakafaik.nadi.my/event/keselamatan-internet/
END:VEVENT
END:VCALENDAR